BEGIN:VCALENDAR
VERSION:2.0
PRODID:-//eventon.com NONSGML v1.0//EN
CALSCALE:GREGORIAN
METHOD:PUBLISH
BEGIN:VEVENT
UID:69e492a199f4a
DTSTAMP:20260419T083025Z
DTSTART:20190203T140000Z
DTEND:20190203T235000Z
LOCATION:Heimathaus Bürbach Obere Dorfstr. 32\,  57074 Siegen
SUMMARY:Café-Stube im Heimathaus
DESCRIPTION:Café-Stube im Heimathaus\nhttps://xn--brbach-3ya.de/events/caf
 estube-im-heimathaus/
URL:https://xn--brbach-3ya.de/events/cafestube-im-heimathaus/
END:VEVENT
END:VCALENDAR