BEGIN:VCALENDAR
VERSION:2.0
PRODID:-//eventon.com NONSGML v1.0//EN
CALSCALE:GREGORIAN
METHOD:PUBLISH
BEGIN:VEVENT
UID:69e730be289b3
DTSTAMP:20260421T080934Z
DTSTART:20231020T170000Z
DTEND:20231020T215900Z
LOCATION:Heimathaus Obere Dorfstr. 32\,  57074 Siegen
SUMMARY:Birwer Treff Oktoberfest
DESCRIPTION:\nhttps://xn--brbach-3ya.de/events/birwer-treff-oktoberfest/
URL:https://xn--brbach-3ya.de/events/birwer-treff-oktoberfest/
END:VEVENT
END:VCALENDAR