BEGIN:VCALENDAR
VERSION:2.0
PRODID:-//eventon.com NONSGML v1.0//EN
CALSCALE:GREGORIAN
METHOD:PUBLISH
BEGIN:VEVENT
UID:69e731c264de3
DTSTAMP:20260421T081354Z
DTSTART:20230604T120000Z
DTEND:20230604T160000Z
LOCATION:Heimathaus Bürbach Obere Dorfstr. 32\,  57074 Siegen
SUMMARY:Caféstube im Heimathaus Bürbach
DESCRIPTION:\nhttps://xn--brbach-3ya.de/events/cafestube-im-heimathaus-buer
 bach-6/
URL:https://xn--brbach-3ya.de/events/cafestube-im-heimathaus-buerbach-6/
END:VEVENT
END:VCALENDAR