BEGIN:VCALENDAR
VERSION:2.0
PRODID:-//eventon.com NONSGML v1.0//EN
CALSCALE:GREGORIAN
METHOD:PUBLISH
BEGIN:VEVENT
UID:69e7306f7fc4c
DTSTAMP:20260421T080815Z
DTSTART:20230421T170000Z
DTEND:20230421T215900Z
LOCATION:Heimathaus Obere Dorfstr. 32\,  57074 Siegen
SUMMARY:Birwer Treff
DESCRIPTION:\nhttps://xn--brbach-3ya.de/events/birwer-treff-19/
URL:https://xn--brbach-3ya.de/events/birwer-treff-19/
END:VEVENT
END:VCALENDAR