BEGIN:VCALENDAR
VERSION:2.0
PRODID:-//eventon.com NONSGML v1.0//EN
CALSCALE:GREGORIAN
METHOD:PUBLISH
BEGIN:VEVENT
UID:69e5e2c3c3701
DTSTAMP:20260420T082435Z
DTSTART:20220923T150000Z
DTEND:20220923T173000Z
LOCATION:Gemeindehaus Bürbach Im Wiesengarten 10\,  57074 Siegen-Bürbach
SUMMARY:Seniorennachmittag in Bürbach
DESCRIPTION:Seniorennachmittag in Bürbach\nhttps://xn--brbach-3ya.de/event
 s/seniorennachmittag-in-buerbach/
URL:https://xn--brbach-3ya.de/events/seniorennachmittag-in-buerbach/
END:VEVENT
END:VCALENDAR